BEGIN:VCALENDAR
VERSION:2.0
PRODID:-//Garrapete Espectáculos - ECPv4.9.12//NONSGML v1.0//EN
CALSCALE:GREGORIAN
METHOD:PUBLISH
X-WR-CALNAME:Garrapete Espectáculos
X-ORIGINAL-URL:https://garrapete.es
X-WR-CALDESC:Eventos para Garrapete Espectáculos
BEGIN:VTIMEZONE
TZID:Europe/Madrid
BEGIN:DAYLIGHT
TZOFFSETFROM:+0100
TZOFFSETTO:+0200
TZNAME:CEST
DTSTART:20130331T010000
END:DAYLIGHT
BEGIN:STANDARD
TZOFFSETFROM:+0200
TZOFFSETTO:+0100
TZNAME:CET
DTSTART:20131027T010000
END:STANDARD
END:VTIMEZONE
BEGIN:VEVENT
DTSTART;TZID=Europe/Madrid:20130602T100000
DTEND;TZID=Europe/Madrid:20130601T100000
DTSTAMP:20260421T082637
CREATED:20191126T171251Z
LAST-MODIFIED:20191126T171251Z
UID:4112-1370167200-1370080800@garrapete.es
SUMMARY:Actuación a la carta para STECyL.
DESCRIPTION:Encuentro organizado por la Federación de Sindicatos de Trabajadores de la Enseñanza de Castilla y León. (STECyL) \n
URL:https://garrapete.es/evento/actuacion-a-la-carta-para-stecyl/
END:VEVENT
END:VCALENDAR