BEGIN:VCALENDAR
VERSION:2.0
PRODID:-//Garrapete Espectáculos - ECPv4.9.12//NONSGML v1.0//EN
CALSCALE:GREGORIAN
METHOD:PUBLISH
X-WR-CALNAME:Garrapete Espectáculos
X-ORIGINAL-URL:https://garrapete.es
X-WR-CALDESC:Eventos para Garrapete Espectáculos
BEGIN:VTIMEZONE
TZID:Europe/Madrid
BEGIN:DAYLIGHT
TZOFFSETFROM:+0100
TZOFFSETTO:+0200
TZNAME:CEST
DTSTART:20220327T010000
END:DAYLIGHT
BEGIN:STANDARD
TZOFFSETFROM:+0200
TZOFFSETTO:+0100
TZNAME:CET
DTSTART:20221030T010000
END:STANDARD
END:VTIMEZONE
BEGIN:VEVENT
DTSTART;TZID=Europe/Madrid:20220511T130000
DTEND;TZID=Europe/Madrid:20220511T140000
DTSTAMP:20260424T211207
CREATED:20220425T104825Z
LAST-MODIFIED:20220502T151446Z
UID:5723-1652274000-1652277600@garrapete.es
SUMMARY:CUENTOS AL PIANO. (Palencia)
DESCRIPTION:CEE CARRECHIQUILLA. \n
URL:https://garrapete.es/evento/cuentos-al-piano-palencia-4/
CATEGORIES:cuentacuentos necesidades diversas,cuentacuentos personas con discapacidad
END:VEVENT
END:VCALENDAR