BEGIN:VCALENDAR
VERSION:2.0
PRODID:-//Garrapete Espectáculos - ECPv4.9.12//NONSGML v1.0//EN
CALSCALE:GREGORIAN
METHOD:PUBLISH
X-WR-CALNAME:Garrapete Espectáculos
X-ORIGINAL-URL:https://garrapete.es
X-WR-CALDESC:Eventos para Garrapete Espectáculos
BEGIN:VTIMEZONE
TZID:Europe/Madrid
BEGIN:DAYLIGHT
TZOFFSETFROM:+0100
TZOFFSETTO:+0200
TZNAME:CEST
DTSTART:20220327T010000
END:DAYLIGHT
BEGIN:STANDARD
TZOFFSETFROM:+0200
TZOFFSETTO:+0100
TZNAME:CET
DTSTART:20221030T010000
END:STANDARD
END:VTIMEZONE
BEGIN:VEVENT
DTSTART;TZID=Europe/Madrid:20220422T183000
DTEND;TZID=Europe/Madrid:20220422T193000
DTSTAMP:20260426T034613
CREATED:20220303T112939Z
LAST-MODIFIED:20220314T090315Z
UID:5604-1650652200-1650655800@garrapete.es
SUMMARY:CUENTOS FRITOS DE LA LUNA EN ESCABECHE. (Santovenia de Pisuerga)
DESCRIPTION:
URL:https://garrapete.es/evento/cuentos-fritos-de-la-luna-en-escabeche-santovenia-de-pisuerga/
CATEGORIES:cuentacuentos Ávila,cuentacuentos burgos,cuentacuentos cantabria,Cuentacuentos Halloween,CUENTACUENTOS LEÓN,cuentacuentos león,cuentacuentos logroño,Cuentacuentos Madrid,Cuentacuentos Palencia,cuentacuentos salamanca,cuentacuentos santander,cuentacuentos segovia,cuentacuentos soria,Cuentacuentos Valladolid,cuentacuentos zamora
END:VEVENT
END:VCALENDAR