BEGIN:VCALENDAR
VERSION:2.0
PRODID:-//Garrapete Espectáculos - ECPv4.9.12//NONSGML v1.0//EN
CALSCALE:GREGORIAN
METHOD:PUBLISH
X-WR-CALNAME:Garrapete Espectáculos
X-ORIGINAL-URL:https://garrapete.es
X-WR-CALDESC:Eventos para Garrapete Espectáculos
BEGIN:VTIMEZONE
TZID:Europe/Madrid
BEGIN:DAYLIGHT
TZOFFSETFROM:+0100
TZOFFSETTO:+0200
TZNAME:CEST
DTSTART:20210328T010000
END:DAYLIGHT
BEGIN:STANDARD
TZOFFSETFROM:+0200
TZOFFSETTO:+0100
TZNAME:CET
DTSTART:20211031T010000
END:STANDARD
END:VTIMEZONE
BEGIN:VEVENT
DTSTART;TZID=Europe/Madrid:20210529T080000
DTEND;TZID=Europe/Madrid:20210529T170000
DTSTAMP:20260422T051940
CREATED:20210330T074456Z
LAST-MODIFIED:20210330T074456Z
UID:5129-1622275200-1622307600@garrapete.es
SUMMARY:CUENTOS FRITOS. (LEÓN)
DESCRIPTION:Biblioteca Pública de León. \n
URL:https://garrapete.es/evento/cuentos-fritos-leon/
CATEGORIES:Clown Ciudad Rodrigo,clown cuellar,Clown Salamanca,clown segovia,cuentacuentos burgos,cuentacuentos león,teatro de calle Castilla y León,teatro de calle Salamanca,teatro familiar burgos,teatro familiar león,teatro familiar provincia salamanca,teatro familiar salamanca,teatro familiar soria,teatro infancia burgos,teatro infancia león,teatro soria,teatro valladolid
END:VEVENT
END:VCALENDAR