BEGIN:VCALENDAR
VERSION:2.0
PRODID:-//Garrapete Espectáculos - ECPv4.9.12//NONSGML v1.0//EN
CALSCALE:GREGORIAN
METHOD:PUBLISH
X-WR-CALNAME:Garrapete Espectáculos
X-ORIGINAL-URL:https://garrapete.es
X-WR-CALDESC:Eventos para Garrapete Espectáculos
BEGIN:VTIMEZONE
TZID:Europe/Madrid
BEGIN:DAYLIGHT
TZOFFSETFROM:+0100
TZOFFSETTO:+0200
TZNAME:CEST
DTSTART:20200329T010000
END:DAYLIGHT
BEGIN:STANDARD
TZOFFSETFROM:+0200
TZOFFSETTO:+0100
TZNAME:CET
DTSTART:20201025T010000
END:STANDARD
END:VTIMEZONE
BEGIN:VEVENT
DTSTART;TZID=Europe/Madrid:20200720T203000
DTEND;TZID=Europe/Madrid:20200720T213000
DTSTAMP:20260422T070022
CREATED:20200708T141630Z
LAST-MODIFIED:20200708T141630Z
UID:4910-1595277000-1595280600@garrapete.es
SUMMARY:LA FAMILIA QUERUBINI . (Guardo)
DESCRIPTION:Organiza AMGU. \n
URL:https://garrapete.es/evento/la-familia-querubini-guardo/
END:VEVENT
END:VCALENDAR