BEGIN:VCALENDAR
VERSION:2.0
PRODID:-//Garrapete Espectáculos - ECPv4.9.12//NONSGML v1.0//EN
CALSCALE:GREGORIAN
METHOD:PUBLISH
X-WR-CALNAME:Garrapete Espectáculos
X-ORIGINAL-URL:https://garrapete.es
X-WR-CALDESC:Eventos para Garrapete Espectáculos
BEGIN:VTIMEZONE
TZID:Europe/Madrid
BEGIN:DAYLIGHT
TZOFFSETFROM:+0100
TZOFFSETTO:+0200
TZNAME:CEST
DTSTART:20230326T010000
END:DAYLIGHT
BEGIN:STANDARD
TZOFFSETFROM:+0200
TZOFFSETTO:+0100
TZNAME:CET
DTSTART:20231029T010000
END:STANDARD
END:VTIMEZONE
BEGIN:VEVENT
DTSTART;TZID=Europe/Madrid:20230930T000000
DTEND;TZID=Europe/Madrid:20230930T000000
DTSTAMP:20260421T221902
CREATED:20230914T085406Z
LAST-MODIFIED:20230914T085406Z
UID:6615-1696032000-1696032000@garrapete.es
SUMMARY:LA FAMILIA QUERUBINI. ( Melgar de Fernamental)
DESCRIPTION:Organiza Fapas. \n
URL:https://garrapete.es/evento/la-familia-querubini-melgar-de-fernamental-2/
CATEGORIES:teatro de calle asturias,teatro de calle ávila,teatro de calle Burgos,teatro de calle cantabria,teatro de calle Castilla y León,teatro de calle comunidad de Madrid,teatro de calle Gijón,teatro de calle Gran Canaria,teatro de calle la rioja,teatro de calle logroño,teatro de calle logroño´teatro de calle la rioja,teatro de calle madrid,teatro de calle oviedo,teatro de calle palencia,teatro de calle Salamanca,teatro de calle salamnca,teatro de calle santander,teatro de calle segovia,teatro de calle soria,teatro de calle valladolid,teatro de calle zamora,teatro de callle burgos,teatro familiar ávila,teatro familiar burgos,teatro familiar león,teatro familiar Madrid,teatro familiar palencia,Teatro familiar provincia Madrid,teatro familiar provincia salamanca,teatro familiar salamanca,teatro familiar segovia,teatro familiar soria,teatro familiar valladolid,teatro familiar zamora,teatro humor madrid,teatro infancia Ávila,teatro infancia burgos,teatro infancia león,teatro infancia Palencia,teatro infancia Salamanca,teatro infancia Segovia,teatro infancia Soria,teatro infancia Valladolid,Teatro Infantil Madrid,teatro para todos los públicos Asturias,teatro para todos los públicos Burgos,teatro para todos los públicos Cantabria,teatro para todos los públicos La Rioja,teatro para todos los públicos León,teatro para todos los públicos Logroño,teatro para todos los públicos Madrid,teatro para todos los públicos Navarra,teatro para todos los públicos País Vasco,teatro para todos los públicos Palencia,teatro para todos los públicos Salamanca,teatro para todos los públicos Santander,teatro para todos los públicos Segovia,teatro para todos los públicos Soria,teatro para todos los públicos Valladolid,teatro para todos los públicos Zamora
END:VEVENT
END:VCALENDAR