BEGIN:VCALENDAR
VERSION:2.0
PRODID:-//Garrapete Espectáculos - ECPv4.9.12//NONSGML v1.0//EN
CALSCALE:GREGORIAN
METHOD:PUBLISH
X-WR-CALNAME:Garrapete Espectáculos
X-ORIGINAL-URL:https://garrapete.es
X-WR-CALDESC:Eventos para Garrapete Espectáculos
BEGIN:VTIMEZONE
TZID:Europe/Madrid
BEGIN:DAYLIGHT
TZOFFSETFROM:+0100
TZOFFSETTO:+0200
TZNAME:CEST
DTSTART:20220327T010000
END:DAYLIGHT
BEGIN:STANDARD
TZOFFSETFROM:+0200
TZOFFSETTO:+0100
TZNAME:CET
DTSTART:20221030T010000
END:STANDARD
END:VTIMEZONE
BEGIN:VEVENT
DTSTART;TZID=Europe/Madrid:20220521T183000
DTEND;TZID=Europe/Madrid:20220521T193000
DTSTAMP:20260424T190001
CREATED:20220328T173314Z
LAST-MODIFIED:20220328T173314Z
UID:5647-1653157800-1653161400@garrapete.es
SUMMARY:LAS BRUJAS
DESCRIPTION:Cuentacuentos en la Biblioteca Pública de Burgos \n
URL:https://garrapete.es/evento/las-brujas-3/
END:VEVENT
END:VCALENDAR