BEGIN:VCALENDAR
VERSION:2.0
PRODID:-//Garrapete Espectáculos - ECPv4.9.12//NONSGML v1.0//EN
CALSCALE:GREGORIAN
METHOD:PUBLISH
X-WR-CALNAME:Garrapete Espectáculos
X-ORIGINAL-URL:https://garrapete.es
X-WR-CALDESC:Eventos para Garrapete Espectáculos
BEGIN:VTIMEZONE
TZID:Europe/Madrid
BEGIN:DAYLIGHT
TZOFFSETFROM:+0100
TZOFFSETTO:+0200
TZNAME:CEST
DTSTART:20210328T010000
END:DAYLIGHT
BEGIN:STANDARD
TZOFFSETFROM:+0200
TZOFFSETTO:+0100
TZNAME:CET
DTSTART:20211031T010000
END:STANDARD
END:VTIMEZONE
BEGIN:VEVENT
DTSTART;TZID=Europe/Madrid:20211030T190000
DTEND;TZID=Europe/Madrid:20211030T200000
DTSTAMP:20260421T233730
CREATED:20211008T102053Z
LAST-MODIFIED:20211008T102053Z
UID:5335-1635620400-1635624000@garrapete.es
SUMMARY:LAS BRUJAS (Armunia)
DESCRIPTION:Cuentacuentos en Armunia (León) \n
URL:https://garrapete.es/evento/las-brujas-armunia/
END:VEVENT
END:VCALENDAR