BEGIN:VCALENDAR
VERSION:2.0
PRODID:-//Garrapete Espectáculos - ECPv4.9.12//NONSGML v1.0//EN
CALSCALE:GREGORIAN
METHOD:PUBLISH
X-WR-CALNAME:Garrapete Espectáculos
X-ORIGINAL-URL:https://garrapete.es
X-WR-CALDESC:Eventos para Garrapete Espectáculos
BEGIN:VTIMEZONE
TZID:Europe/Madrid
BEGIN:DAYLIGHT
TZOFFSETFROM:+0100
TZOFFSETTO:+0200
TZNAME:CEST
DTSTART:20220327T010000
END:DAYLIGHT
BEGIN:STANDARD
TZOFFSETFROM:+0200
TZOFFSETTO:+0100
TZNAME:CET
DTSTART:20221030T010000
END:STANDARD
END:VTIMEZONE
BEGIN:VEVENT
DTSTART;TZID=Europe/Madrid:20220422T183000
DTEND;TZID=Europe/Madrid:20220422T193000
DTSTAMP:20260426T020059
CREATED:20220322T154037Z
LAST-MODIFIED:20220322T162537Z
UID:5639-1650652200-1650655800@garrapete.es
SUMMARY:MAMÁ\, QUIERO SER CANTANTE. ( Arenillas de San Pelayo)
DESCRIPTION:
URL:https://garrapete.es/evento/mama-quiero-ser-cantante-arenillas-de-san-pelayo/
CATEGORIES:clown adultos,clown adultos burgos,clown adultos logroño,clown adultos madrid,clown adultos palencia,clown adultos segovia,clown adultos valladolid,clown cuellar,clown música adultos,clown música adultos salamanca,clown música personas mayores,clown musical,Clown Salamanca,clown segovia,teatro soria,teatro valladolid
END:VEVENT
END:VCALENDAR