BEGIN:VCALENDAR
VERSION:2.0
PRODID:-//Garrapete Espectáculos - ECPv4.9.12//NONSGML v1.0//EN
CALSCALE:GREGORIAN
METHOD:PUBLISH
X-WR-CALNAME:Garrapete Espectáculos
X-ORIGINAL-URL:https://garrapete.es
X-WR-CALDESC:Eventos para Garrapete Espectáculos
BEGIN:VTIMEZONE
TZID:Europe/Madrid
BEGIN:DAYLIGHT
TZOFFSETFROM:+0100
TZOFFSETTO:+0200
TZNAME:CEST
DTSTART:20220327T010000
END:DAYLIGHT
BEGIN:STANDARD
TZOFFSETFROM:+0200
TZOFFSETTO:+0100
TZNAME:CET
DTSTART:20221030T010000
END:STANDARD
END:VTIMEZONE
BEGIN:VEVENT
DTSTART;TZID=Europe/Madrid:20220521T180000
DTEND;TZID=Europe/Madrid:20220521T190000
DTSTAMP:20260424T203620
CREATED:20220429T120613Z
LAST-MODIFIED:20220429T120708Z
UID:5731-1653156000-1653159600@garrapete.es
SUMMARY:MAMÁ\, QUIERO SER CANTANTE. (Monzón de Campos)
DESCRIPTION:Evento Privado. \n
URL:https://garrapete.es/evento/mama-quiero-ser-cantante-monzon-de-campos/
END:VEVENT
END:VCALENDAR