BEGIN:VCALENDAR
VERSION:2.0
PRODID:-//Garrapete Espectáculos - ECPv4.9.12//NONSGML v1.0//EN
CALSCALE:GREGORIAN
METHOD:PUBLISH
X-WR-CALNAME:Garrapete Espectáculos
X-ORIGINAL-URL:https://garrapete.es
X-WR-CALDESC:Eventos para Garrapete Espectáculos
BEGIN:VTIMEZONE
TZID:Europe/Madrid
BEGIN:DAYLIGHT
TZOFFSETFROM:+0100
TZOFFSETTO:+0200
TZNAME:CEST
DTSTART:20220327T010000
END:DAYLIGHT
BEGIN:STANDARD
TZOFFSETFROM:+0200
TZOFFSETTO:+0100
TZNAME:CET
DTSTART:20221030T010000
END:STANDARD
END:VTIMEZONE
BEGIN:VEVENT
DTSTART;TZID=Europe/Madrid:20220525T170000
DTEND;TZID=Europe/Madrid:20220525T180000
DTSTAMP:20260424T172209
CREATED:20220322T095206Z
LAST-MODIFIED:20220522T171945Z
UID:5637-1653498000-1653501600@garrapete.es
SUMMARY:MAMÁ\, QUIERO SER CANTANTE. ( Palencia)
DESCRIPTION:Teatro Principal de Palencia. Clausura de los Ceas. \n
URL:https://garrapete.es/evento/mama-quiero-ser-cantante-palencia-3/
CATEGORIES:clown adultos,clown adultos burgos,clown adultos palencia,clown adultos segovia,clown adultos valladolid,Clown Ciudad Rodrigo,clown cuellar,clown música adultos,clown música adultos salamanca,clown música personas mayores,clown musical,clown musicla palencia,Clown Salamanca,clwon adultos burgos,humor y música Castilla y León,teatro soria,teatro valladolid
END:VEVENT
END:VCALENDAR