BEGIN:VCALENDAR
VERSION:2.0
PRODID:-//Garrapete Espectáculos - ECPv4.9.12//NONSGML v1.0//EN
CALSCALE:GREGORIAN
METHOD:PUBLISH
X-WR-CALNAME:Garrapete Espectáculos
X-ORIGINAL-URL:https://garrapete.es
X-WR-CALDESC:Eventos para Garrapete Espectáculos
BEGIN:VTIMEZONE
TZID:Europe/Madrid
BEGIN:DAYLIGHT
TZOFFSETFROM:+0100
TZOFFSETTO:+0200
TZNAME:CEST
DTSTART:20230326T010000
END:DAYLIGHT
BEGIN:STANDARD
TZOFFSETFROM:+0200
TZOFFSETTO:+0100
TZNAME:CET
DTSTART:20231029T010000
END:STANDARD
END:VTIMEZONE
BEGIN:VEVENT
DTSTART;TZID=Europe/Madrid:20230423T170000
DTEND;TZID=Europe/Madrid:20230423T180000
DTSTAMP:20260421T233837
CREATED:20230411T085918Z
LAST-MODIFIED:20230411T085918Z
UID:6395-1682269200-1682272800@garrapete.es
SUMMARY:MAMÁ\, QUIERO SER CANTANTE. ( Villamuriel)
DESCRIPTION:Presentación gala. \n
URL:https://garrapete.es/evento/mama-quiero-ser-cantante-villamuriel/
CATEGORIES:clown adultos,clown adultos asturias,clown adultos Ávila,clown adultos burgos,clown adultos cantabria,clown adultos comunidad de Madrid,clown adultos Gijón,clown adultos logroño,clown adultos madrid,clown adultos musical burgos,clown adultos Oviedo,clown adultos palencia,clown adultos Salamanca,clown adultos segovia,clown adultos Soria,clown adultos valladolid,Clown Ciudad Rodrigo,clown cuellar,clown música adultos,clown música adultos salamanca,clown música palencia,clown música personas mayores,clown música valladolid,clown musical,clown músical adultos Asturias,clown músical adultos Ávila,clown músical adultos Avilés,clown músical adultos Burgos,clown músical adultos Cáceres,clown músical adultos Cantabria,clown músical adultos comunidad de Madrid,clown músical adultos Gijón,clown músical adultos La Rioja,clown músical adultos León,clown músical adultos Logroño,clown músical adultos Madrid,clown músical adultos Oviedo,clown músical adultos Palencia,clown músical adultos Salamanca,clown músical adultos Santander,clown músical adultos Segovia,clown músical adultos Soria,clown músical adultos Zamora,espectáculo de humor y música Castilla y León,espectáculo humor y música para adultos,espectáculo humor y música para adultos Ávila,espectáculo humor y música para adultos Burgos,espectáculo humor y música para adultos Logroño,espectáculo humor y música para adultos madrid,espectáculo humor y música para adultos palencia,espectáculo humor y música para adultos Salamanca,espectáculo humor y música para adultos Segovia,espectáculo humor y música para adultos valladolid,espectáculo humor y música para adultos Zamora,presentadores de galas,presentadores de galas Ávila,presentadores de galas Burgos,presentadores de galas Cantabria,presentadores de galas Castilla y León,presentadores de galas León,presentadores de galas Logroño,presentadores de galas Madrid,presentadores de galas Palencia,presentadores de galas Salamanca,presentadores de galas Segovia,presentadores de galas Soria,presentadores de galas Valladolid,presentadores de galas Zamora
END:VEVENT
END:VCALENDAR