BEGIN:VCALENDAR
VERSION:2.0
PRODID:-//Garrapete Espectáculos - ECPv4.9.12//NONSGML v1.0//EN
CALSCALE:GREGORIAN
METHOD:PUBLISH
X-WR-CALNAME:Garrapete Espectáculos
X-ORIGINAL-URL:https://garrapete.es
X-WR-CALDESC:Eventos para Garrapete Espectáculos
BEGIN:VTIMEZONE
TZID:Europe/Madrid
BEGIN:DAYLIGHT
TZOFFSETFROM:+0100
TZOFFSETTO:+0200
TZNAME:CEST
DTSTART:20230326T010000
END:DAYLIGHT
BEGIN:STANDARD
TZOFFSETFROM:+0200
TZOFFSETTO:+0100
TZNAME:CET
DTSTART:20231029T010000
END:STANDARD
END:VTIMEZONE
BEGIN:VEVENT
DTSTART;TZID=Europe/Madrid:20231004T173000
DTEND;TZID=Europe/Madrid:20231004T190000
DTSTAMP:20260421T185531
CREATED:20230925T085933Z
LAST-MODIFIED:20230925T085933Z
UID:6644-1696440600-1696446000@garrapete.es
SUMMARY:TALLER DE RISOTERAPIA. ( Carrión de los Condes )
DESCRIPTION:
URL:https://garrapete.es/evento/taller-de-risoterapia-carrion-de-los-condes-2/
CATEGORIES:Risoterapia Aguilar de Campoo,Risoterapia Asociaciones,Risoterapia Asociaciones Barcelona,Risoterapia Asturias,Risoterapia Ávila,risoterapia ávila,Risoterapia Barcelona,Risoterapia Burgos,Risoterapia Cáceres,risoterapia cantabria,risoterapia despedidas de soltera,risoterapia despedidas de soltera Burgos,risoterapia despedidas de soltera Salamanca,risoterapia despedidas de soltera Segovia,risoterapia despedidas de soltera Valladolid,Risoterapia Empresas Barcelona,Risoterapia empresas castilla y león,Risoterapia empresas Madrid,Risoterapia empresas Valladolid,Risoterapia Gijón,Risoterapia La Rioja,risoterapia león,risoterapia logroño,Risoterapia Madrid,Risoterapia Oviedo,Risoterapia Palencia,Risoterapia para empresas,risoterapia personas con discapacidad,Risoterapia personas mayores,risoterapia personas sordas,Risoterapia Reinosa,Risoterapia Salamanca,Risoterapia Santander,Risoterapia Segovia,risoterapia soria,Risoterapia Torrelavega,Risoterapia Valladolid,risoterapia zamora,taller de clown ávila,taller de clown burgos,taller de clown cantabria,Taller de Clown Feria de Ciudad Rodrigo.,taller de clown león,taller de clown madrid,taller de clown salamanca,taller de clown santander,taller de clown segovia,taller de clown soria,taller de clown valladolid,taller de clown zamora,talleres crecimiento personal,talleres de desarrollo personal,talleres inteligencia emocional,talleres psicología
END:VEVENT
END:VCALENDAR