BEGIN:VCALENDAR
VERSION:2.0
PRODID:-//Garrapete Espectáculos - ECPv4.9.12//NONSGML v1.0//EN
CALSCALE:GREGORIAN
METHOD:PUBLISH
X-WR-CALNAME:Garrapete Espectáculos
X-ORIGINAL-URL:https://garrapete.es
X-WR-CALDESC:Eventos para Garrapete Espectáculos
BEGIN:VTIMEZONE
TZID:Europe/Madrid
BEGIN:DAYLIGHT
TZOFFSETFROM:+0100
TZOFFSETTO:+0200
TZNAME:CEST
DTSTART:20230326T010000
END:DAYLIGHT
BEGIN:STANDARD
TZOFFSETFROM:+0200
TZOFFSETTO:+0100
TZNAME:CET
DTSTART:20231029T010000
END:STANDARD
END:VTIMEZONE
BEGIN:VEVENT
DTSTART;TZID=Europe/Madrid:20230420T100000
DTEND;TZID=Europe/Madrid:20230420T140000
DTSTAMP:20260421T233739
CREATED:20230210T154759Z
LAST-MODIFIED:20230210T154759Z
UID:6327-1681984800-1681999200@garrapete.es
SUMMARY:TALLER DE RISOTERAPIA. ( Palencia)
DESCRIPTION:Organiza Cruz Roja. \n
URL:https://garrapete.es/evento/taller-de-risoterapia-palencia-39/
CATEGORIES:Risoterapia Aguilar de Campoo,Risoterapia Asociaciones,Risoterapia Asturias,risoterapia ávila,Risoterapia Ávila,Risoterapia Burgos,Risoterapia Cáceres,risoterapia cantabria,Risoterapia empresas castilla y león,Risoterapia empresas Madrid,Risoterapia empresas Valladolid,Risoterapia Gijón,Risoterapia La Rioja,risoterapia león,risoterapia logroño,Risoterapia Madrid,Risoterapia Oviedo,Risoterapia Palencia,Risoterapia para empresas,risoterapia personas con discapacidad,Risoterapia personas mayores,risoterapia personas sordas,Risoterapia Reinosa,Risoterapia Salamanca,Risoterapia Santander,Risoterapia Segovia,risoterapia soria,Risoterapia Torrelavega,Risoterapia Valladolid,risoterapia zamora
END:VEVENT
END:VCALENDAR