BEGIN:VCALENDAR
VERSION:2.0
PRODID:-//Garrapete Espectáculos - ECPv4.9.12//NONSGML v1.0//EN
CALSCALE:GREGORIAN
METHOD:PUBLISH
X-WR-CALNAME:Garrapete Espectáculos
X-ORIGINAL-URL:https://garrapete.es
X-WR-CALDESC:Eventos para Garrapete Espectáculos
BEGIN:VTIMEZONE
TZID:Europe/Madrid
BEGIN:DAYLIGHT
TZOFFSETFROM:+0100
TZOFFSETTO:+0200
TZNAME:CEST
DTSTART:20230326T010000
END:DAYLIGHT
BEGIN:STANDARD
TZOFFSETFROM:+0200
TZOFFSETTO:+0100
TZNAME:CET
DTSTART:20231029T010000
END:STANDARD
END:VTIMEZONE
BEGIN:VEVENT
DTSTART;TZID=Europe/Madrid:20230930T000000
DTEND;TZID=Europe/Madrid:20230930T000000
DTSTAMP:20260421T204206
CREATED:20230914T090027Z
LAST-MODIFIED:20230914T090027Z
UID:6617-1696032000-1696032000@garrapete.es
SUMMARY:TALLERES DE RISOTERAPIA. ( Melgar de Fernamental)
DESCRIPTION:Organiza FAPAS. \n
URL:https://garrapete.es/evento/talleres-de-risoterapia-melgar-de-fernamental/
CATEGORIES:Risoterapia Aguilar de Campoo,Risoterapia Asociaciones,Risoterapia Asociaciones Barcelona,Risoterapia Asturias,risoterapia ávila,Risoterapia Ávila,Risoterapia Barcelona,Risoterapia Burgos,Risoterapia Cáceres,risoterapia cantabria,risoterapia despedidas de soltera,risoterapia despedidas de soltera Burgos,risoterapia despedidas de soltera Salamanca,risoterapia despedidas de soltera Segovia,risoterapia despedidas de soltera Valladolid,Risoterapia Empresas Barcelona,Risoterapia empresas castilla y león,Risoterapia empresas Madrid,Risoterapia empresas Valladolid,Risoterapia Gijón,Risoterapia La Rioja,risoterapia león,risoterapia logroño,Risoterapia Madrid,Risoterapia Oviedo,Risoterapia Palencia,Risoterapia para empresas,risoterapia personas con discapacidad,Risoterapia personas mayores,risoterapia personas sordas,Risoterapia Reinosa,Risoterapia Salamanca,Risoterapia Santander,Risoterapia Segovia,risoterapia soria,Risoterapia Torrelavega,Risoterapia Valladolid,risoterapia zamora
END:VEVENT
END:VCALENDAR