BEGIN:VCALENDAR
VERSION:2.0
PRODID:-//Garrapete Espectáculos - ECPv4.9.12//NONSGML v1.0//EN
CALSCALE:GREGORIAN
METHOD:PUBLISH
X-WR-CALNAME:Garrapete Espectáculos
X-ORIGINAL-URL:https://garrapete.es
X-WR-CALDESC:Eventos para Garrapete Espectáculos
BEGIN:VTIMEZONE
TZID:Europe/Madrid
BEGIN:DAYLIGHT
TZOFFSETFROM:+0100
TZOFFSETTO:+0200
TZNAME:CEST
DTSTART:20190331T010000
END:DAYLIGHT
BEGIN:STANDARD
TZOFFSETFROM:+0200
TZOFFSETTO:+0100
TZNAME:CET
DTSTART:20191027T010000
END:STANDARD
END:VTIMEZONE
BEGIN:VEVENT
DTSTART;TZID=Europe/Madrid:20190102T000000
DTEND;TZID=Europe/Madrid:20190102T000000
DTSTAMP:20260421T082330
CREATED:20191126T171331Z
LAST-MODIFIED:20191126T171331Z
UID:4554-1546387200-1546387200@garrapete.es
SUMMARY:Tecla y Tekloff.  Guardo.( Palencia)
DESCRIPTION:
URL:https://garrapete.es/evento/tecla-y-tekloff-guardo-palencia/
END:VEVENT
END:VCALENDAR