BEGIN:VCALENDAR
VERSION:2.0
PRODID:-//Garrapete Espectáculos - ECPv4.9.12//NONSGML v1.0//EN
CALSCALE:GREGORIAN
METHOD:PUBLISH
X-WR-CALNAME:Garrapete Espectáculos
X-ORIGINAL-URL:https://garrapete.es
X-WR-CALDESC:Eventos para Garrapete Espectáculos
BEGIN:VTIMEZONE
TZID:Europe/Madrid
BEGIN:DAYLIGHT
TZOFFSETFROM:+0100
TZOFFSETTO:+0200
TZNAME:CEST
DTSTART:20250330T010000
END:DAYLIGHT
BEGIN:STANDARD
TZOFFSETFROM:+0200
TZOFFSETTO:+0100
TZNAME:CET
DTSTART:20251026T010000
END:STANDARD
END:VTIMEZONE
BEGIN:VEVENT
DTSTART;TZID=Europe/Madrid:20251222T110000
DTEND;TZID=Europe/Madrid:20251222T130000
DTSTAMP:20260421T210936
CREATED:20251009T080921Z
LAST-MODIFIED:20251009T080921Z
UID:7535-1766401200-1766408400@garrapete.es
SUMMARY:TROPEZANDO CON EL TEATRO (Carrión de los Condes)
DESCRIPTION:
URL:https://garrapete.es/evento/tropezando-con-el-teatro-carrion-de-los-condes/
END:VEVENT
END:VCALENDAR