BEGIN:VCALENDAR
VERSION:2.0
PRODID:-//Garrapete Espectáculos - ECPv4.9.12//NONSGML v1.0//EN
CALSCALE:GREGORIAN
METHOD:PUBLISH
X-WR-CALNAME:Garrapete Espectáculos
X-ORIGINAL-URL:https://garrapete.es
X-WR-CALDESC:Eventos para Garrapete Espectáculos
BEGIN:VTIMEZONE
TZID:Europe/Madrid
BEGIN:DAYLIGHT
TZOFFSETFROM:+0100
TZOFFSETTO:+0200
TZNAME:CEST
DTSTART:20220327T010000
END:DAYLIGHT
BEGIN:STANDARD
TZOFFSETFROM:+0200
TZOFFSETTO:+0100
TZNAME:CET
DTSTART:20221030T010000
END:STANDARD
END:VTIMEZONE
BEGIN:VEVENT
DTSTART;VALUE=DATE:20221119
DTEND;VALUE=DATE:20221120
DTSTAMP:20260422T051132
CREATED:20220124T101335Z
LAST-MODIFIED:20220124T101335Z
UID:5556-1668816000-1668902399@garrapete.es
SUMMARY:CRESCENDO. (Torquemada)
DESCRIPTION:Programación Circuitos Escénicos Castilla y León. \n
URL:https://garrapete.es/evento/crescendo-torquemada/
CATEGORIES:Clown Ciudad Rodrigo,clown cuellar,clown musical,Clown Salamanca,clown segovia,teatro familiar ávila,teatro familiar burgos,teatro familiar león,teatro familiar Madrid,teatro familiar palencia,teatro familiar provincia salamanca,teatro familiar salamanca,teatro familiar soria,teatro familiar valladolid,teatro familiar zamora,teatro humor madrid,teatro palencia,teatro soria,teatro valladolid
END:VEVENT
END:VCALENDAR