BEGIN:VCALENDAR
VERSION:2.0
PRODID:-//Garrapete Espectáculos - ECPv4.9.12//NONSGML v1.0//EN
CALSCALE:GREGORIAN
METHOD:PUBLISH
X-WR-CALNAME:Garrapete Espectáculos
X-ORIGINAL-URL:https://garrapete.es
X-WR-CALDESC:Eventos para Garrapete Espectáculos
BEGIN:VTIMEZONE
TZID:Europe/Madrid
BEGIN:DAYLIGHT
TZOFFSETFROM:+0100
TZOFFSETTO:+0200
TZNAME:CEST
DTSTART:20220327T010000
END:DAYLIGHT
BEGIN:STANDARD
TZOFFSETFROM:+0200
TZOFFSETTO:+0100
TZNAME:CET
DTSTART:20221030T010000
END:STANDARD
END:VTIMEZONE
BEGIN:VEVENT
DTSTART;TZID=Europe/Madrid:20221230T170000
DTEND;TZID=Europe/Madrid:20221230T180000
DTSTAMP:20260422T022102
CREATED:20221211T090223Z
LAST-MODIFIED:20221211T090223Z
UID:6203-1672419600-1672423200@garrapete.es
SUMMARY:LA FAMILIA QUERUBINI. ( Quintanilla de Trigueros)
DESCRIPTION:
URL:https://garrapete.es/evento/la-familia-querubini-quintanilla-de-trigueros/
CATEGORIES:Circuitos Escénicos Castilla y León,clown adultos,clown adultos asturias,clown adultos burgos,clown adultos cantabria,clown adultos logroño,clown adultos madrid,clown adultos musical burgos,clown adultos palencia,clown adultos segovia,clown adultos valladolid,Clown Ciudad Rodrigo,clown cuellar,clown música adultos,clown música adultos salamanca,clown música palencia,clown música personas mayores,clown música valladolid,clown musical,clown musicla palencia,Clown Salamanca,clown segovia,clwon adultos burgos,teatro de calle asturias,teatro de calle ávila,teatro de calle Burgos,teatro de calle cantabria,teatro de calle Castilla y León,teatro de calle la rioja,teatro de calle logroño,teatro de calle logroño´teatro de calle la rioja,teatro de calle madrid,teatro de calle oviedo,teatro de calle palencia,teatro de calle Salamanca,teatro de calle salamnca,teatro de calle santander,teatro de calle segovia,teatro de calle soria,teatro de calle valladolid,teatro de calle zamora,teatro de callle burgos,teatro familiar ávila,teatro familiar burgos,teatro familiar león,teatro familiar Madrid,teatro familiar palencia,Teatro familiar provincia Madrid,teatro familiar provincia salamanca,teatro familiar salamanca,teatro familiar segovia,teatro familiar soria,teatro familiar valladolid,teatro familiar zamora,teatro humor madrid,teatro palencia,teatro para todos los públicos Asturias,teatro para todos los públicos Burgos,teatro para todos los públicos Cantabria,teatro para todos los públicos La Rioja,teatro para todos los públicos León,teatro para todos los públicos Logroño,teatro para todos los públicos Madrid,teatro para todos los públicos Navarra,teatro para todos los públicos País Vasco,teatro para todos los públicos Palencia,teatro para todos los públicos Salamanca,teatro para todos los públicos Santander,teatro para todos los públicos Segovia,teatro para todos los públicos Soria,teatro para todos los públicos Valladolid,teatro para todos los públicos Zamora,Teatro provincia Madrid,teatro soria,teatro valladolid
END:VEVENT
END:VCALENDAR