BEGIN:VCALENDAR
VERSION:2.0
PRODID:-//Garrapete Espectáculos - ECPv4.9.12//NONSGML v1.0//EN
CALSCALE:GREGORIAN
METHOD:PUBLISH
X-WR-CALNAME:Garrapete Espectáculos
X-ORIGINAL-URL:https://garrapete.es
X-WR-CALDESC:Eventos para Garrapete Espectáculos
BEGIN:VTIMEZONE
TZID:Europe/Madrid
BEGIN:DAYLIGHT
TZOFFSETFROM:+0100
TZOFFSETTO:+0200
TZNAME:CEST
DTSTART:20230326T010000
END:DAYLIGHT
BEGIN:STANDARD
TZOFFSETFROM:+0200
TZOFFSETTO:+0100
TZNAME:CET
DTSTART:20231029T010000
END:STANDARD
END:VTIMEZONE
BEGIN:VEVENT
DTSTART;TZID=Europe/Madrid:20230225T190000
DTEND;TZID=Europe/Madrid:20230225T200000
DTSTAMP:20260422T004900
CREATED:20230117T101057Z
LAST-MODIFIED:20230117T102932Z
UID:6221-1677351600-1677355200@garrapete.es
SUMMARY:MAMÁ\, QUIERO SER CANTANTE. ( Boadilla de Rioseco)
DESCRIPTION:
URL:https://garrapete.es/evento/mama-quiero-ser-cantante-boadilla-de-rioseco/
CATEGORIES:clown adultos,clown adultos asturias,clown adultos burgos,clown adultos cantabria,clown adultos logroño,clown adultos madrid,clown adultos musical burgos,clown adultos palencia,clown adultos segovia,clown adultos valladolid,clown música adultos,clown música adultos salamanca,clown música palencia,clown música personas mayores,clown música valladolid,clown musical,Clown Salamanca,clown segovia,espectáculo de humor y música Castilla y León,espectáculo humor y música para adultos,espectáculo humor y música para adultos Ávila,espectáculo humor y música para adultos Burgos,espectáculo humor y música para adultos Logroño,espectáculo humor y música para adultos madrid,espectáculo humor y música para adultos palencia,espectáculo humor y música para adultos Salamanca,espectáculo humor y música para adultos Segovia,espectáculo humor y música para adultos valladolid,espectáculo humor y música para adultos Zamora
END:VEVENT
END:VCALENDAR