BEGIN:VCALENDAR
VERSION:2.0
PRODID:-//Garrapete Espectáculos - ECPv4.9.12//NONSGML v1.0//EN
CALSCALE:GREGORIAN
METHOD:PUBLISH
X-WR-CALNAME:Garrapete Espectáculos
X-ORIGINAL-URL:https://garrapete.es
X-WR-CALDESC:Eventos para Garrapete Espectáculos
BEGIN:VTIMEZONE
TZID:Europe/Madrid
BEGIN:DAYLIGHT
TZOFFSETFROM:+0100
TZOFFSETTO:+0200
TZNAME:CEST
DTSTART:20230326T010000
END:DAYLIGHT
BEGIN:STANDARD
TZOFFSETFROM:+0200
TZOFFSETTO:+0100
TZNAME:CET
DTSTART:20231029T010000
END:STANDARD
END:VTIMEZONE
BEGIN:VEVENT
DTSTART;TZID=Europe/Madrid:20231017T000000
DTEND;TZID=Europe/Madrid:20231017T000000
DTSTAMP:20260421T122406
CREATED:20230928T080302Z
LAST-MODIFIED:20231004T073856Z
UID:6646-1697500800-1697500800@garrapete.es
SUMMARY:MAMÁ\, QUIERO SER CANTANTE. ( ZAMORA)
DESCRIPTION:
URL:https://garrapete.es/evento/mama-quiero-ser-cantante-zamora-2/
CATEGORIES:clown adultos Gijón,clown adultos logroño,clown adultos madrid,clown adultos musical burgos,clown adultos Oviedo,clown adultos palencia,clown adultos Salamanca,clown adultos segovia,clown adultos Soria,clown adultos valladolid,Clown Ciudad Rodrigo,clown cuellar,clown música adultos,clown música adultos salamanca,clown música palencia,clown música personas mayores,clown música valladolid,clown musical,clown músical adultos Asturias,clown músical adultos Ávila,clown músical adultos Avilés,clown músical adultos Burgos,clown músical adultos Cáceres,clown músical adultos Cantabria,clown músical adultos comunidad de Madrid,clown músical adultos Gijón,clown músical adultos La Rioja,clown músical adultos León,clown músical adultos Logroño,clown músical adultos Madrid,clown músical adultos Oviedo,clown músical adultos Palencia,clown músical adultos Salamanca,clown músical adultos Santander,clown músical adultos Segovia,clown músical adultos Soria,clown músical adultos Zamora,clown musicla palencia,Clown Salamanca,clown segovia,teatro humor madrid,teatro para todos los públicos Asturias,teatro para todos los públicos Burgos,teatro para todos los públicos Cantabria,teatro para todos los públicos La Rioja,teatro para todos los públicos León,teatro para todos los públicos Logroño,teatro para todos los públicos Madrid,teatro para todos los públicos Navarra,teatro para todos los públicos País Vasco,teatro para todos los públicos Palencia,teatro para todos los públicos Salamanca,teatro para todos los públicos Santander,teatro para todos los públicos Segovia,teatro para todos los públicos Soria,teatro para todos los públicos Valladolid,teatro para todos los públicos Zamora,Teatro provincia Madrid,teatro soria,teatro valladolid
END:VEVENT
END:VCALENDAR