BEGIN:VCALENDAR
VERSION:2.0
PRODID:-//Garrapete Espectáculos - ECPv4.9.12//NONSGML v1.0//EN
CALSCALE:GREGORIAN
METHOD:PUBLISH
X-WR-CALNAME:Garrapete Espectáculos
X-ORIGINAL-URL:https://garrapete.es
X-WR-CALDESC:Eventos para Garrapete Espectáculos
BEGIN:VTIMEZONE
TZID:Europe/Madrid
BEGIN:DAYLIGHT
TZOFFSETFROM:+0100
TZOFFSETTO:+0200
TZNAME:CEST
DTSTART:20230326T010000
END:DAYLIGHT
BEGIN:STANDARD
TZOFFSETFROM:+0200
TZOFFSETTO:+0100
TZNAME:CET
DTSTART:20231029T010000
END:STANDARD
END:VTIMEZONE
BEGIN:VEVENT
DTSTART;TZID=Europe/Madrid:20230607T090000
DTEND;TZID=Europe/Madrid:20230607T140000
DTSTAMP:20260424T030759
CREATED:20230302T105558Z
LAST-MODIFIED:20230302T105558Z
UID:6349-1686128400-1686146400@garrapete.es
SUMMARY:CUENTOS FRITOS. (Palencia)
DESCRIPTION:Colegio Modesto de la Fuente. \n
URL:https://garrapete.es/evento/cuentos-fritos-palencia-5/
CATEGORIES:Cuantacuentos Halloween,cuentacuentos Ávila,cuentacuentos burgos,cuentacuentos cantabria,cuentacuentos con música en directo para colegios,Cuentacuentos Halloween,CUENTACUENTOS LEÓN,cuentacuentos león,cuentacuentos logroño,Cuentacuentos Madrid,cuentacuentos necesidades diversas,Cuentacuentos Palencia,cuentacuentos para colegios,cuentacuentos personas con discapacidad,CUENTACUENTOS PROVINCIA MADRID,cuentacuentos salamanca,cuentacuentos santander,cuentacuentos segovia,cuentacuentos soria,Cuentacuentos Valladolid,cuentacuentos zamora,teatro campaña escolar Asturias,teatro campaña escolar Ávila,teatro campaña escolar Burgos,teatro campaña escolar Cáceres,teatro campaña escolar Cantabria,teatro campaña escolar Comunidad de Madrid,teatro campaña escolar Gijón,teatro campaña escolar La Rioja,teatro campaña escolar León,teatro campaña escolar Logroño,teatro campaña escolar Lugo,teatro campaña escolar Madrid,teatro campaña escolar Navarra,teatro campaña escolar Ourense,teatro campaña escolar Oviedo,teatro campaña escolar País Vasco,teatro campaña escolar Palencia,teatro campaña escolar provincia de Madrid,teatro campaña escolar Salamanca,teatro campaña escolar Segovia,teatro campaña escolar Soria,teatro campaña escolar Toledo,teatro campaña escolar Valladolid,teatro campaña escolar Vitoria,teatro campaña escolar Zamora,teatro familiar ávila,teatro familiar burgos,teatro familiar león,teatro familiar Madrid,teatro familiar palencia,Teatro familiar provincia Madrid,teatro familiar provincia salamanca,teatro familiar salamanca,teatro familiar segovia,teatro familiar soria,teatro familiar valladolid,teatro familiar zamora,teatro infancia Ávila,teatro infancia burgos,teatro infancia león,teatro infancia Palencia,teatro infancia Salamanca,teatro infancia Segovia,teatro infancia Soria,teatro infancia Valladolid,Teatro Infantil Madrid,teatro para colegios
END:VEVENT
END:VCALENDAR