BEGIN:VCALENDAR
VERSION:2.0
PRODID:-//Garrapete Espectáculos - ECPv4.9.12//NONSGML v1.0//EN
CALSCALE:GREGORIAN
METHOD:PUBLISH
X-WR-CALNAME:Garrapete Espectáculos
X-ORIGINAL-URL:https://garrapete.es
X-WR-CALDESC:Eventos para Garrapete Espectáculos
BEGIN:VTIMEZONE
TZID:Europe/Madrid
BEGIN:DAYLIGHT
TZOFFSETFROM:+0100
TZOFFSETTO:+0200
TZNAME:CEST
DTSTART:20230326T010000
END:DAYLIGHT
BEGIN:STANDARD
TZOFFSETFROM:+0200
TZOFFSETTO:+0100
TZNAME:CET
DTSTART:20231029T010000
END:STANDARD
END:VTIMEZONE
BEGIN:VEVENT
DTSTART;TZID=Europe/Madrid:20231031T170000
DTEND;TZID=Europe/Madrid:20231031T180000
DTSTAMP:20260423T191553
CREATED:20221025T150926Z
LAST-MODIFIED:20221025T150926Z
UID:6092-1698771600-1698775200@garrapete.es
SUMMARY:LAS BRUJAS. (Alba de Tormes)
DESCRIPTION:Programación Circuitos Escénicos de Castilla y León. \n
URL:https://garrapete.es/evento/las-brujas-alba-de-tormes/
CATEGORIES:Circuitos Escénicos Castilla y León,Cuantacuentos Halloween,cuentacuentos Ávila,cuentacuentos burgos,cuentacuentos cantabria,cuentacuentos con música en directo para colegios,Cuentacuentos Halloween,cuentacuentos león,CUENTACUENTOS LEÓN,cuentacuentos logroño,Cuentacuentos Madrid,cuentacuentos necesidades diversas,Cuentacuentos Palencia,cuentacuentos para colegios,cuentacuentos personas con discapacidad,CUENTACUENTOS PROVINCIA MADRID,cuentacuentos salamanca,cuentacuentos santander,cuentacuentos segovia,cuentacuentos soria,Cuentacuentos Valladolid,cuentacuentos zamora,teatro campaña escolar Asturias,teatro campaña escolar Ávila,teatro campaña escolar Burgos,teatro campaña escolar Cantabria,teatro campaña escolar León,teatro campaña escolar Logroño,teatro campaña escolar Madrid,teatro campaña escolar Navarra,teatro campaña escolar País Vasco,teatro campaña escolar Palencia,teatro campaña escolar provincia de Madrid,teatro campaña escolar Salamanca,teatro campaña escolar Segovia,teatro campaña escolar Soria,teatro campaña escolar Valladolid,teatro campaña escolar Zamora
END:VEVENT
END:VCALENDAR