BEGIN:VCALENDAR
VERSION:2.0
PRODID:-//Garrapete Espectáculos - ECPv4.9.12//NONSGML v1.0//EN
CALSCALE:GREGORIAN
METHOD:PUBLISH
X-WR-CALNAME:Garrapete Espectáculos
X-ORIGINAL-URL:https://garrapete.es
X-WR-CALDESC:Eventos para Garrapete Espectáculos
BEGIN:VTIMEZONE
TZID:Europe/Madrid
BEGIN:DAYLIGHT
TZOFFSETFROM:+0100
TZOFFSETTO:+0200
TZNAME:CEST
DTSTART:20230326T010000
END:DAYLIGHT
BEGIN:STANDARD
TZOFFSETFROM:+0200
TZOFFSETTO:+0100
TZNAME:CET
DTSTART:20231029T010000
END:STANDARD
END:VTIMEZONE
BEGIN:VEVENT
DTSTART;TZID=Europe/Madrid:20231125T170000
DTEND;TZID=Europe/Madrid:20231125T180000
DTSTAMP:20260423T191625
CREATED:20221024T083237Z
LAST-MODIFIED:20221024T100318Z
UID:6084-1700931600-1700935200@garrapete.es
SUMMARY:LAS BRUJAS. (Cubillos de Sil)
DESCRIPTION:Programación Circuitos Escénicos de Castilla y León. \n
URL:https://garrapete.es/evento/las-brujas-cubillos-de-sil/
CATEGORIES:Cuantacuentos Halloween,cuentacuentos Ávila,cuentacuentos burgos,cuentacuentos cantabria,cuentacuentos con música en directo para colegios,Cuentacuentos Halloween,CUENTACUENTOS LEÓN,cuentacuentos león,cuentacuentos logroño,Cuentacuentos Madrid,cuentacuentos necesidades diversas,Cuentacuentos Palencia,cuentacuentos para colegios,cuentacuentos personas con discapacidad,CUENTACUENTOS PROVINCIA MADRID,cuentacuentos salamanca,cuentacuentos santander,cuentacuentos segovia,cuentacuentos soria,Cuentacuentos Valladolid,cuentacuentos zamora,teatro familiar ávila,teatro familiar burgos,teatro familiar león,teatro familiar Madrid,teatro familiar palencia,Teatro familiar provincia Madrid,teatro familiar provincia salamanca,teatro familiar salamanca,teatro familiar segovia,teatro familiar soria,teatro familiar valladolid,teatro familiar zamora,teatro infancia Ávila,teatro infancia burgos,teatro infancia león,teatro infancia Palencia,teatro infancia Salamanca,teatro infancia Segovia,teatro infancia Soria,teatro infancia Valladolid,Teatro Infantil Madrid
END:VEVENT
END:VCALENDAR