BEGIN:VCALENDAR
VERSION:2.0
PRODID:-//Garrapete Espectáculos - ECPv4.9.12//NONSGML v1.0//EN
CALSCALE:GREGORIAN
METHOD:PUBLISH
X-WR-CALNAME:Garrapete Espectáculos
X-ORIGINAL-URL:https://garrapete.es
X-WR-CALDESC:Eventos para Garrapete Espectáculos
BEGIN:VTIMEZONE
TZID:Europe/Madrid
BEGIN:DAYLIGHT
TZOFFSETFROM:+0100
TZOFFSETTO:+0200
TZNAME:CEST
DTSTART:20240331T010000
END:DAYLIGHT
BEGIN:STANDARD
TZOFFSETFROM:+0200
TZOFFSETTO:+0100
TZNAME:CET
DTSTART:20241027T010000
END:STANDARD
END:VTIMEZONE
BEGIN:VEVENT
DTSTART;TZID=Europe/Madrid:20240727T000000
DTEND;TZID=Europe/Madrid:20240727T000000
DTSTAMP:20260424T195757
CREATED:20240617T084752Z
LAST-MODIFIED:20240617T092327Z
UID:7021-1722038400-1722038400@garrapete.es
SUMMARY:TECLA & TEKLOFF. (Villada)
DESCRIPTION:
URL:https://garrapete.es/evento/tecla-tekloff-villada/
CATEGORIES:teatro de sala Santander,teatro familiar ávila,teatro familiar burgos,teatro familiar león,teatro familiar Madrid,teatro familiar palencia,Teatro familiar provincia Madrid,teatro familiar provincia salamanca,teatro familiar salamanca,teatro familiar Santander,teatro familiar segovia,teatro familiar soria,teatro familiar valladolid,teatro familiar zamora,teatro humor madrid,teatro infancia Ávila,teatro infancia burgos,teatro infancia león,teatro infancia Palencia,teatro infancia Salamanca,teatro infancia Segovia,teatro infancia Soria,teatro infancia Valladolid,Teatro Infantil Madrid,teatro infantil santander,teatro musical,teatro musical castilla y león,teatro palencia,teatro para bebes ávila,teatro para bebes burgos,Teatro para bebes Ciudad Rodrigo,teatro para bebes león,teatro para bebes palencia,teatro para bebes salamanca,teatro para bebes segovia,teatro para bebes soria,teatro para bebes valladolid,teatro para bebes zamora,teatro para colegios,teatro para todos los públicos Asturias,teatro para todos los públicos Burgos,teatro para todos los públicos Cantabria,teatro para todos los públicos La Rioja,teatro para todos los públicos León,teatro para todos los públicos Logroño,teatro para todos los públicos Madrid,teatro para todos los públicos Navarra,teatro para todos los públicos País Vasco,teatro para todos los públicos Palencia,teatro para todos los públicos Salamanca,teatro para todos los públicos Santander,teatro para todos los públicos Segovia,teatro para todos los públicos Soria,teatro para todos los públicos Valladolid,teatro para todos los públicos Zamora,Teatro provincia Madrid,teatro soria,teatro valladolid
END:VEVENT
END:VCALENDAR